BEGIN:VCALENDAR
VERSION:2.0
PRODID:-//hacksw/handcal//NONSGML v1.0//EN
BEGIN:VEVENT
SUMMARY:cours aux heures habituelles
UID:16903a6d-4c89-4fc4-972a-6bbeffb4ede9
DTSTART:20260421T220000Z
DTEND:20260422T220000Z
LOCATION:Localisation   
CATEGORIES:Sportif
STATUS:
URL;VALUE=URI:https://merignies.club.ffbridge.fr/evenements/2026/04/22/cours-aux-heures-habituelles-2421574
END:VEVENT
END:VCALENDAR
