BEGIN:VCALENDAR
VERSION:2.0
PRODID:-//hacksw/handcal//NONSGML v1.0//EN
BEGIN:VEVENT
SUMMARY:Coupe Des Clubs a l’ ESC 2025-26
UID:8f7e03f3-b89d-47d6-8f15-c8e3a39f3111
DTSTART:20260320T130000Z
DTEND:20260320T170000Z
LOCATION:Localisation   
CATEGORIES:Sportif
STATUS:
URL;VALUE=URI:https://merignies.club.ffbridge.fr/evenements/2026/03/20/coupe-des-clubs-a-l-esc-2025-26-2266169
END:VEVENT
END:VCALENDAR
